BEGIN:VCALENDAR
VERSION:2.0
PRODID:-//wp-events-plugin.com//7.2.3.1//EN
TZID:Europe/Amsterdam
X-WR-TIMEZONE:Europe/Amsterdam
BEGIN:VEVENT
UID:1687@pgwd.nl
DTSTART;TZID=Europe/Amsterdam:20260430T100000
DTEND;TZID=Europe/Amsterdam:20260430T120000
DTSTAMP:20260103T095706Z
URL:https://pgwd.nl/events/creatieve-groep-2-2026-01-08-2026-01-22-2026-02
 -05-2026-02-19-2026-03-05-2026-03-19-2026-04-02-2026-04-16-2026-04-30
SUMMARY:Creatieve groep
DESCRIPTION:Contact Janny van den Bergh tel. 0294 417082 (tussen 17.30 en 1
 9.00 uur) of creatief@pgwd.nll\n\n
CATEGORIES:Algemeen
LOCATION:Het Lichthuis\, Waagplein 10\, Weesp\, Nederland
X-APPLE-STRUCTURED-LOCATION;VALUE=URI;X-ADDRESS=Waagplein 10\, Weesp\, Nede
 rland;X-APPLE-RADIUS=100;X-TITLE=Het Lichthuis:geo:0,0
END:VEVENT
BEGIN:VTIMEZONE
TZID:Europe/Amsterdam
X-LIC-LOCATION:Europe/Amsterdam
BEGIN:DAYLIGHT
DTSTART:20260329T030000
TZOFFSETFROM:+0100
TZOFFSETTO:+0200
TZNAME:CEST
END:DAYLIGHT
END:VTIMEZONE
END:VCALENDAR