BEGIN:VCALENDAR
VERSION:2.0
PRODID:-//wp-events-plugin.com//7.2.3.1//EN
TZID:Europe/Amsterdam
X-WR-TIMEZONE:Europe/Amsterdam
BEGIN:VEVENT
UID:1391@pgwd.nl
DTSTART;TZID=Europe/Amsterdam:20260428T140000
DTEND;TZID=Europe/Amsterdam:20260428T160000
DTSTAMP:20251203T184956Z
URL:https://pgwd.nl/events/ouderensoos-2-2026-01-06-2026-01-13-2026-01-20-
 2026-01-27-2026-02-03-2026-02-10-2026-02-17-2026-02-24-2026-03-03-2026-03-
 10-2026-03-17-2026-03-24-2026-03-31-2026-04-07-2026-04-14-2026-04-21-2026-
 04-28
SUMMARY:Ouderensoos
DESCRIPTION:Contact: Aukje de Rijke\, tel. 0294 482366 Liddy Groen\, tel. 0
 294 457799 Tiny van Bodegraven\, tel. 0294 251 841
CATEGORIES:Algemeen
LOCATION:Het Lichthuis\, Waagplein 10\, Weesp\, Nederland
X-APPLE-STRUCTURED-LOCATION;VALUE=URI;X-ADDRESS=Waagplein 10\, Weesp\, Nede
 rland;X-APPLE-RADIUS=100;X-TITLE=Het Lichthuis:geo:0,0
END:VEVENT
BEGIN:VTIMEZONE
TZID:Europe/Amsterdam
X-LIC-LOCATION:Europe/Amsterdam
BEGIN:DAYLIGHT
DTSTART:20260329T030000
TZOFFSETFROM:+0100
TZOFFSETTO:+0200
TZNAME:CEST
END:DAYLIGHT
END:VTIMEZONE
END:VCALENDAR