BEGIN:VCALENDAR
VERSION:2.0
PRODID:-//wp-events-plugin.com//7.2.3.1//EN
TZID:Europe/Amsterdam
X-WR-TIMEZONE:Europe/Amsterdam
BEGIN:VEVENT
UID:1640@pgwd.nl
DTSTART;TZID=Europe/Amsterdam:20260429T090000
DTEND;TZID=Europe/Amsterdam:20260429T093000
DTSTAMP:20260103T095254Z
URL:https://pgwd.nl/events/stiltegebed-2026-01-07-2026-01-14-2026-01-21-20
 26-01-28-2026-02-04-2026-02-11-2026-02-18-2026-02-25-2026-03-04-2026-03-11
 -2026-03-18-2026-03-25-2026-04-01-2026-04-08-2026-04-15-2026-04-22-2026-04
 -29
SUMMARY:Stiltegebed
DESCRIPTION:In het koor van de kerk\, ingang Waagplein\n\nContact: Jan Bodi
 sco Massink\n\ntel. 0294 254249\n\njbodisco@gmail.com\n\n&nbsp\;
CATEGORIES:Algemeen
LOCATION:Grote / Laurenskerk\, Nieuwstraat 31\, Weesp\, 1381 BB\, Nederland
X-APPLE-STRUCTURED-LOCATION;VALUE=URI;X-ADDRESS=Nieuwstraat 31\, Weesp\, 13
 81 BB\, Nederland;X-APPLE-RADIUS=100;X-TITLE=Grote / Laurenskerk:geo:0,0
END:VEVENT
BEGIN:VTIMEZONE
TZID:Europe/Amsterdam
X-LIC-LOCATION:Europe/Amsterdam
BEGIN:DAYLIGHT
DTSTART:20260329T030000
TZOFFSETFROM:+0100
TZOFFSETTO:+0200
TZNAME:CEST
END:DAYLIGHT
END:VTIMEZONE
END:VCALENDAR