BEGIN:VCALENDAR
VERSION:2.0
PRODID:-//wp-events-plugin.com//7.2.3.1//EN
TZID:Europe/Amsterdam
X-WR-TIMEZONE:Europe/Amsterdam
BEGIN:VEVENT
UID:484@pgwd.nl
DTSTART;TZID=Europe/Amsterdam:20231125T103000
DTEND;TZID=Europe/Amsterdam:20231125T153000
DTSTAMP:20231115T160312Z
URL:https://pgwd.nl/events/ver-protestantse-vrouwen-op-weg-2
SUMMARY:Ver. PROTESTANTSE VROUWEN OP WEG
DESCRIPTION:Winterfair in de Grote Kerk\nContact: Nel van Nigtevecht\, tel.
  0294 750442
CATEGORIES:Algemeen
LOCATION:Grote / Laurenskerk\, Nieuwstraat 31\, Weesp\, 1381 BB\, Nederland
X-APPLE-STRUCTURED-LOCATION;VALUE=URI;X-ADDRESS=Nieuwstraat 31\, Weesp\, 13
 81 BB\, Nederland;X-APPLE-RADIUS=100;X-TITLE=Grote / Laurenskerk:geo:0,0
END:VEVENT
BEGIN:VTIMEZONE
TZID:Europe/Amsterdam
X-LIC-LOCATION:Europe/Amsterdam
BEGIN:STANDARD
DTSTART:20231029T020000
TZOFFSETFROM:+0200
TZOFFSETTO:+0100
TZNAME:CET
END:STANDARD
END:VTIMEZONE
END:VCALENDAR